BEGIN:VCALENDAR
PRODID:-//AT Content Types//AT Event//EN
VERSION:2.0
METHOD:PUBLISH
BEGIN:VEVENT
DTSTAMP:20260423T090353Z
CREATED:20130128T110154Z
UID:ATEvent-0acde7b2f35f6bd16c8794f320fbe216
LAST-MODIFIED:20130319T111153Z
SUMMARY:Salute e sicurezza sul lavoro - Novità legislative e strumenti operativi per le imprese - 13 marzo\, Corbetta
DTSTART:20130313T133000Z
DTEND:20130313T163000Z
DESCRIPTION:Incontro con la ASL della provincia di Milano 1 sugli aggi
 ornamenti in materia di sicurezza sul lavoro.
LOCATION:Hotel Diamante - Via Simone da Corbetta162\, Corbetta
CONTACT:sic@assolombarda.it
URL:https://www.assolombarda.it/servizi/salute-e-sicurezza-sul-lavoro/appuntamenti/salute-e-sicurezza-sul-lavoro-novita-legislative-e-strumenti-operativi-per-le-imprese-13-marzo-corbetta
CLASS:PUBLIC
END:VEVENT
END:VCALENDAR
