BEGIN:VCALENDAR
PRODID:-//AT Content Types//AT Event//EN
VERSION:2.0
METHOD:PUBLISH
BEGIN:VEVENT
DTSTAMP:20260423T151726Z
CREATED:20120628T134208Z
UID:ATEvent-237f1bf29c5939f42692f33d2d1ed9b1
LAST-MODIFIED:20121114T075454Z
SUMMARY:La percezione del rischio e i comportamenti  corretti ai fini della salute e sicurezza sul lavoro
DTSTART:20121204T080000Z
DTEND:20121204T120000Z
DESCRIPTION:Uno degli aspetti innovativi nella gestione della salute e
  sicurezza nei luoghi di lavoro è quello di intervenire sulle persone
  ed i loro comportamenti\, favorendo quelli più sicuri e aiutando la 
 corretta percezione dei rischi che si possono presentare nelle fasi la
 vorative.  Formazione\, nuovi approcci gestionali\, comunicazione e as
 petti relazionali possono essere alcune delle chiavi per agire in ques
 ta direzione.
LOCATION:- Assolombarda - Sala Falck (piano interrato) - Via Chiaravalle 8\, Milano
URL:https://www.assolombarda.it/servizi/salute-e-sicurezza-sul-lavoro/appuntamenti/la-percezione-del-rischio-e-i-comportamenti-corretti-ai-fini-della-salute-e-sicurezza-sul-lavoro
CLASS:PUBLIC
END:VEVENT
END:VCALENDAR
