BEGIN:VCALENDAR
PRODID:-//AT Content Types//AT Event//EN
VERSION:2.0
METHOD:PUBLISH
BEGIN:VEVENT
DTSTAMP:20260421T220129Z
CREATED:20200507T122126Z
UID:ATEvent-3cb5c5004e5f4d3a9835c436a6e8700c
LAST-MODIFIED:20200521T122317Z
SUMMARY:La  formazione su prevenzione nel periodo COVID-19:  argomenti  e  nuove  modalità\, obblighi e adempimenti
DTSTART:20200525T080000Z
DTEND:20200525T093000Z
DESCRIPTION:Incontro informativo on line.
LOCATION:Webinar
CONTACT:sic@assolombarda.it
URL:https://www.assolombarda.it/servizi/salute-e-sicurezza-sul-lavoro/appuntamenti/la-formazione-su-prevenzione-nel-periodo-covid-19-argomenti-e-nuove-modalita-obblighi-e-adempimenti
CLASS:PUBLIC
END:VEVENT
END:VCALENDAR
