BEGIN:VCALENDAR
PRODID:-//AT Content Types//AT Event//EN
VERSION:2.0
METHOD:PUBLISH
BEGIN:VEVENT
DTSTAMP:20260421T203720Z
CREATED:20200429T122815Z
UID:ATEvent-4b44879ba2c74fdd8b66c045a26aeee4
LAST-MODIFIED:20200513T123757Z
SUMMARY:Crisis management  e  emergenza COVID-19 : spunti per gestire incertezza\, operatività\, salute e sicurezza sul lavoro
DTSTART:20200518T080000Z
DTEND:20200518T093000Z
DESCRIPTION:Incontro informativo on line.
LOCATION:Webinar
CONTACT:sic@assolombarda.it
URL:https://www.assolombarda.it/servizi/salute-e-sicurezza-sul-lavoro/appuntamenti/crisis-management-emergenza-covid-19-e-salute-e-sicurezza-sul-lavoro-gestire-l2019incertezza-nelle-fasi-di-emergenza
CLASS:PUBLIC
END:VEVENT
END:VCALENDAR
