BEGIN:VCALENDAR
PRODID:-//AT Content Types//AT Event//EN
VERSION:2.0
METHOD:PUBLISH
BEGIN:VEVENT
DTSTAMP:20260421T164310Z
CREATED:20200415T183925Z
UID:ATEvent-fff2a5a43c354f7b898b2f79bec6af58
LAST-MODIFIED:20200422T133649Z
SUMMARY:Covid 19 - Salute e sicurezza sul lavoro: come prepararsi alla ripresa delle attività
DTSTART:20200429T080000Z
DTEND:20200429T093000Z
DESCRIPTION:Incontro online: disposizioni legate all’emergenza Covid
 -19.
LOCATION:Incontro online
CONTACT:sic@assolombarda.it
URL:https://www.assolombarda.it/servizi/salute-e-sicurezza-sul-lavoro/appuntamenti/covid-19-salute-e-sicurezza-sul-lavoro-come-prepararsi-alla-ripresa-delle-attivita
CLASS:PUBLIC
END:VEVENT
END:VCALENDAR
