BEGIN:VCALENDAR
PRODID:-//AT Content Types//AT Event//EN
VERSION:2.0
METHOD:PUBLISH
BEGIN:VEVENT
DTSTAMP:20260420T235228Z
CREATED:20120928T082153Z
UID:ATEvent-b159f1f4268d6dd78c6133439bf3dea3
LAST-MODIFIED:20121203T100022Z
SUMMARY:Convention RSPP e ASPP 2012 - La salute e sicurezza nel lavoro che cambia: modalità strumenti valutazione
DTSTART:20121123T073000Z
DTEND:20121123T170000Z
DESCRIPTION:La Convention RSPP e ASPP è l'appuntamento tradizionale d
 i confronto sui temi legati alla salute e sicurezza nei luoghi di lavo
 ro proposto da Assolombarda.
LOCATION:- Assolombarda - Auditorium Gio Ponti (piano interrato) - Via Pantano 9\, Milano
CONTACT:sic@assolombarda.it
URL:https://www.assolombarda.it/servizi/salute-e-sicurezza-sul-lavoro/appuntamenti/convention-rspp-e-aspp-2012-la-salute-e-sicurezza-nel-lavoro-che-cambia-modalita-strumenti-valutazione
CLASS:PUBLIC
END:VEVENT
END:VCALENDAR
