BEGIN:VCALENDAR
PRODID:-//AT Content Types//AT Event//EN
VERSION:2.0
METHOD:PUBLISH
BEGIN:VEVENT
DTSTAMP:20260422T135823Z
CREATED:20211011T100834Z
UID:ATEvent-563c0f5a4158496b9b22695a9cbdead3
LAST-MODIFIED:20211013T122508Z
SUMMARY:Da sempre accanto alle imprese: scopri il servizio ricerca e innovazione - Webinar di presentazione\, 19 ottobre
DTSTART:20211019T070000Z
DTEND:20211019T073000Z
LOCATION:Incontro online
CONTACT:svil@assolombarda.it
URL:https://www.assolombarda.it/servizi/ricerca-e-innovazione/da-sempre-accanto-alle-imprese-scopri-il-servizio-ricerca-e-innovazione-webinar-di-presentazione-19-ottobre
CLASS:PUBLIC
END:VEVENT
END:VCALENDAR
