BEGIN:VCALENDAR
PRODID:-//AT Content Types//AT Event//EN
VERSION:2.0
METHOD:PUBLISH
BEGIN:VEVENT
DTSTAMP:20260424T075607Z
CREATED:20191015T130937Z
UID:ATEvent-eb0245dc712b4e27b923947d45125239
LAST-MODIFIED:20191113T112347Z
SUMMARY:Tecnologia e Talento per l’organizzazione che innova
DTSTART:20191114T090000Z
DTEND:20191114T113000Z
DESCRIPTION:La misura del successo aziendale è data dalla capacità d
 i cambiare quando è necessario!
LOCATION:- Assolombarda - Sala Falck (piano interrato) - Via Chiaravalle 8\, Milano
CONTACT:innovazione@assolombarda.it
URL:https://www.assolombarda.it/servizi/qualita-e-lean/tecnologia-e-talento-per-l2019organizzazione-che-innova
CLASS:PUBLIC
END:VEVENT
END:VCALENDAR
