BEGIN:VCALENDAR
PRODID:-//AT Content Types//AT Event//EN
VERSION:2.0
METHOD:PUBLISH
BEGIN:VEVENT
DTSTAMP:20260420T175703Z
CREATED:20200731T093815Z
UID:ATEvent-fa3d33465d8c43c1beea910c32edaf37
LAST-MODIFIED:20200930T100618Z
SUMMARY:Le attività di trasporto merci internazionale su strada
DTSTART:20200930T080000Z
DTEND:20200930T093000Z
DESCRIPTION:L'incontro intende approfondire il quadro normativo di rif
 erimento\, gli obblighi e le responsabilità del vettore\, dello spedi
 zioniere e del committente nel trasporto internazionale delle merci su
  strada.
LOCATION:Assolombarda webinar online
URL:https://www.assolombarda.it/servizi/mobilita-e-trasporti/le-attivita-di-trasporto-merci-internazionale-su-strada
CLASS:PUBLIC
END:VEVENT
END:VCALENDAR
