BEGIN:VCALENDAR
PRODID:-//AT Content Types//AT Event//EN
VERSION:2.0
METHOD:PUBLISH
BEGIN:VEVENT
DTSTAMP:20260420T175701Z
CREATED:20201016T103952Z
UID:ATEvent-693349bdda9a4f62af39f6ad78ea1c86
LAST-MODIFIED:20201209T084319Z
SUMMARY:Le attività di trasporto merci internazionale per via ferroviaria e intermodale
DTSTART:20201201T090000Z
DTEND:20201201T103000Z
DESCRIPTION:Il webinar intende fornire\, con un risvolto pratico e cas
 i concreti\, un supporto alle imprese per una più efficace conoscenza
  della normativa e degli strumenti operativi nel trasporto internazion
 ale delle merci intermodale e ferroviario.
LOCATION:Webinar
URL:https://www.assolombarda.it/servizi/mobilita-e-trasporti/le-attivita-di-trasporto-merci-internazionale-per-via-ferroviaria-e-intermodale
CLASS:PUBLIC
END:VEVENT
END:VCALENDAR
