BEGIN:VCALENDAR
PRODID:-//AT Content Types//AT Event//EN
VERSION:2.0
METHOD:PUBLISH
BEGIN:VEVENT
DTSTAMP:20260423T105051Z
CREATED:20210917T073218Z
UID:ATEvent-f8ca6723f51b45f1810838ef1c20c716
LAST-MODIFIED:20210917T082354Z
SUMMARY:INPS – Invio UniEmens
DTSTART:20211030T220000Z
DTEND:20211030T220000Z
CATEGORIES:Lavoro, previdenza e welfare.INPS - ENPALS, Lavoro, previdenza e welfare.Contribuzione previdenziale, Lavoro, previdenza e welfare, scadenze
CLASS:PUBLIC
END:VEVENT
END:VCALENDAR
