BEGIN:VCALENDAR
PRODID:-//AT Content Types//AT Event//EN
VERSION:2.0
METHOD:PUBLISH
BEGIN:VEVENT
DTSTAMP:20260423T235244Z
CREATED:20120424T094231Z
UID:ATEvent-f5c0ed426aaf10ce3bbfbdcfdd283556
LAST-MODIFIED:20220716T100357Z
SUMMARY:Benefici contributivi per assunzioni
DTSTART:20120118T133000Z
DTEND:20120118T163000Z
DESCRIPTION:I Mercoledì della Previdenza.
LOCATION:- Assolombarda - Sala Falck (piano interrato) - Via Chiaravalle 8\, Milano
CONTACT:lav@assolombarda.it
URL:https://www.assolombarda.it/servizi/lavoro-e-previdenza/appuntamenti/benefici-contributivi-per-assunzioni
CLASS:PUBLIC
END:VEVENT
END:VCALENDAR
