BEGIN:VCALENDAR
PRODID:-//AT Content Types//AT Event//EN
VERSION:2.0
METHOD:PUBLISH
BEGIN:VEVENT
DTSTAMP:20260421T153131Z
CREATED:20120904T090342Z
UID:ATEvent-85af87b342b52d9fa99188928ed20d7c
LAST-MODIFIED:20120924T123824Z
SUMMARY:USA e Canada: opportunità nel settore energetico. Workshop\, 19 settembre
DTSTART:20120919T080000Z
DTEND:20120919T123000Z
DESCRIPTION:Il workshop avrà due focus: le opportunità dello shale g
 as in Pennsylvania (USA) e dell'oil&gas in Alberta (Canada).
LOCATION:- Assolombarda - Foyer (piano interrato) - Via Pantano 9\, Milano
CONTACT:mei@assolombarda.it
URL:https://www.assolombarda.it/servizi/internazionalizzazione/appuntamenti/usa-e-canada-opportunita-nel-settore-energetico
CLASS:PUBLIC
END:VEVENT
END:VCALENDAR
