BEGIN:VCALENDAR
PRODID:-//AT Content Types//AT Event//EN
VERSION:2.0
METHOD:PUBLISH
BEGIN:VEVENT
DTSTAMP:20260423T112807Z
CREATED:20150528T130730Z
UID:ATEvent-64e59f434db52e99dd203e5a66dd7cc5
LAST-MODIFIED:20160513T133014Z
SUMMARY:Russia: strategie per entrare nel mercato\, dogane e certificazioni
DTSTART:20151201T090000Z
DTEND:20151201T120000Z
DESCRIPTION:Come accedere e presidiare il mercato russo. Dalle strateg
 ie di marketing agli obblighi in dogana.
LOCATION:- Assolombarda Confindustria Milano Monza e Brianza - Sala Falck (piano interrato) - Via Chiaravalle 8\, Milano
CONTACT:mei@assolombarda.it
URL:https://www.assolombarda.it/servizi/internazionalizzazione/appuntamenti/russia-strategie-per-entrare-nel-mercato-dogane-e-certificazioni
CLASS:PUBLIC
END:VEVENT
END:VCALENDAR
