BEGIN:VCALENDAR
PRODID:-//AT Content Types//AT Event//EN
VERSION:2.0
METHOD:PUBLISH
BEGIN:VEVENT
DTSTAMP:20260419T174921Z
CREATED:20170804T125108Z
UID:ATEvent-d2cedee924ee4f5aa5fe5b4b24898e3a
LAST-MODIFIED:20171120T102534Z
SUMMARY:Documentazione - Russia: spedire merce nel paese\, contrattualistica ed incoterms
DTSTART:20171116T083000Z
DTEND:20171116T120000Z
DESCRIPTION:Iniziativa per offrire alle aziende interessate ad esporta
 re in Russia\, indicazioni puntuali per gestire correttamente le opera
 zioni con clienti\, distributori\, agenti e spedizionieri.
LOCATION:- Assolombarda Confindustria Milano Monza e Brianza - Sala Congressi (piano interrato) - Viale Francesco Petrarca 10\, Monza
CONTACT:assolombardaestero@assolombarda.it
URL:https://www.assolombarda.it/servizi/internazionalizzazione/appuntamenti/russia-spedire-merce-nel-paese-contrattualistica-ed-incoterms
CLASS:PUBLIC
END:VEVENT
END:VCALENDAR
