BEGIN:VCALENDAR
PRODID:-//AT Content Types//AT Event//EN
VERSION:2.0
METHOD:PUBLISH
BEGIN:VEVENT
DTSTAMP:20260424T112902Z
CREATED:20200909T080326Z
UID:ATEvent-dc6880de024548df912dad9b7a3a4e3a
LAST-MODIFIED:20200911T145416Z
SUMMARY:Russia sempre piÃ¹ isolata? Webinar con ISPI
DTSTART:20200918T063000Z
DTEND:20200918T073000Z
DESCRIPTION:Il Breakfast Briefing\, organizzato in collaborazione con 
 ISPI (Istituto per gli Studi di Politica Internazionale)\, si svolgerÃ
   in versione webinar giovedÃ¬ 18 settembre 2020\, dalle 8.30 alle 9.3
 0\, con l'obiettivo di fornire alle imprese il quadro della situazione
  geopolitica ed economica del Paese.
LOCATION:Webinar
URL:https://www.assolombarda.it/servizi/internazionalizzazione/appuntamenti/russia-sempre-piu-isolata-webinar-con-ispi
CLASS:PUBLIC
END:VEVENT
END:VCALENDAR
