BEGIN:VCALENDAR
PRODID:-//AT Content Types//AT Event//EN
VERSION:2.0
METHOD:PUBLISH
BEGIN:VEVENT
DTSTAMP:20260423T201925Z
CREATED:20150729T101737Z
UID:ATEvent-db91a6d8669bf09b47809df8e1076aa4
LAST-MODIFIED:20150914T143755Z
SUMMARY:Polonia: opportunità di business per le imprese italiane
DTSTART:20150914T073000Z
DTEND:20150914T120000Z
DESCRIPTION:Il Vice Primo Ministro\, e Ministro dell'Economia della Po
 lonia\, presenta agli imprenditori italiani la situazione dell'economi
 a polacca e le opportunità che il mercato offre in questo momento.
LOCATION:- Assolombarda - Auditorium Gio Ponti (piano interrato) - Via Pantano 9\, Milano
CONTACT:mei@assolombarda.it
URL:https://www.assolombarda.it/servizi/internazionalizzazione/appuntamenti/polonia-opportunita-di-business-per-le-imprese-italiane
CLASS:PUBLIC
END:VEVENT
END:VCALENDAR
