BEGIN:VCALENDAR
PRODID:-//AT Content Types//AT Event//EN
VERSION:2.0
METHOD:PUBLISH
BEGIN:VEVENT
DTSTAMP:20260424T012435Z
CREATED:20130228T164158Z
UID:ATEvent-26c376090f276cc6bfa566b16272623c
LAST-MODIFIED:20130320T163003Z
SUMMARY:L'unione doganale tra Russia\, Kazakhstan e Bielorussia
DTSTART:20130321T083000Z
DTEND:20130321T123000Z
DESCRIPTION:Da gennaio 2012 i tre Stati rappresentano un unico spazio 
 economico. Il convegno vuole illustrare quali benefici ne possono trar
 re i paesi dell'UE e in particolare l'Italia.
LOCATION:Banca Intesa - Sala Assemblee - Piazza Belgioioso\, Milano
CONTACT:mei@assolombarda.it
URL:https://www.assolombarda.it/servizi/internazionalizzazione/appuntamenti/lunione-doganale-tra-russia-kazakhstan-e-bielorussia
CLASS:PUBLIC
END:VEVENT
END:VCALENDAR
