BEGIN:VCALENDAR
PRODID:-//AT Content Types//AT Event//EN
VERSION:2.0
METHOD:PUBLISH
BEGIN:VEVENT
DTSTAMP:20260424T004734Z
CREATED:20171201T140527Z
UID:ATEvent-4aa9c5f4117d436aabbb88f5212f9e61
LAST-MODIFIED:20171214T135432Z
SUMMARY:DOCUMENTAZIONE - L’ecosistema digitale in Cina e il ruolo di WeChat per raggiungere e servire consumatori cinesi in Cina e nel mondo
DTSTART:20171214T090000Z
DTEND:20171214T113000Z
DESCRIPTION:La sessione di lavoro si concentrerà sulle differenze tra
  il consumatore digitale cinese e quello occidentale\, la diversa ‘f
 orma’ che ha internet in Cina e cosa possono concretamente fare le a
 ziende italiane per raggiungere e servire clientela cinese utilizzando
  WeChat.
LOCATION:- Assolombarda - Sala Falck (piano interrato) - Via Chiaravalle 8\, Milano
URL:https://www.assolombarda.it/servizi/internazionalizzazione/appuntamenti/l2019ecosistema-digitale-in-cina-e-il-ruolo-di-wechat-per-raggiungere-e-servire-consumatori-cinesi-in-cina-e-nel-mondo
CLASS:PUBLIC
END:VEVENT
END:VCALENDAR
