BEGIN:VCALENDAR
PRODID:-//AT Content Types//AT Event//EN
VERSION:2.0
METHOD:PUBLISH
BEGIN:VEVENT
DTSTAMP:20260421T095446Z
CREATED:20191211T155031Z
UID:ATEvent-936fecd02f6a4719831593b51e785339
LAST-MODIFIED:20200130T141720Z
SUMMARY:DOCUMENTAZIONE - Il mondo nel 2020: opportunità e rischi per le imprese
DTSTART:20200123T090000Z
DTEND:20200123T120000Z
DESCRIPTION:Il convegno\, organizzato da Assolombarda\, ISPI e SACE ha
  illustrato gli scenari che caratterizzeranno il 2020\, anno che inizi
 a con l’entrata in carica della nuova Commissione europea e terminer
 à con le elezioni americane di novembre.
LOCATION:- Assolombarda - Auditorium Gio Ponti (piano interrato) - Via Pantano 9\, Milano
CONTACT:assolombardaestero@assolombarda.it
URL:https://www.assolombarda.it/servizi/internazionalizzazione/appuntamenti/il-mondo-nel-2020-opportunita-e-rischi-per-le-imprese
CLASS:PUBLIC
END:VEVENT
END:VCALENDAR
