BEGIN:VCALENDAR
PRODID:-//AT Content Types//AT Event//EN
VERSION:2.0
METHOD:PUBLISH
BEGIN:VEVENT
DTSTAMP:20260420T102136Z
CREATED:20170629T080014Z
UID:ATEvent-b3ca0d4123b8438c8ebd7babbdd808e4
LAST-MODIFIED:20170713T131646Z
SUMMARY:Documentazione - Mozambico: investire nel futuro. Milano\, 12 luglio
DTSTART:20170712T083000Z
DTEND:20170712T110000Z
DESCRIPTION:Incontro con la Confindustria del Mozambico (CTA) e una de
 legazione di imprese del paese.
LOCATION:- Assolombarda Confindustria Milano Monza e Brianza - Sala Falck (piano interrato) - Via Chiaravalle 8\, Milano
CONTACT:assolombardaestero@assolombarda.it
URL:https://www.assolombarda.it/servizi/internazionalizzazione/appuntamenti/documentazione-mozambico-investire-nel-futuro-milano-12-luglio
CLASS:PUBLIC
END:VEVENT
END:VCALENDAR
