BEGIN:VCALENDAR
PRODID:-//AT Content Types//AT Event//EN
VERSION:2.0
METHOD:PUBLISH
BEGIN:VEVENT
DTSTAMP:20260424T164600Z
CREATED:20170630T144513Z
UID:ATEvent-260ab8d1dccc4e03a28c60088c335d51
LAST-MODIFIED:20171025T075753Z
SUMMARY:Documentazione - Il contratto di compravendita internazionale
DTSTART:20171024T080000Z
DTEND:20171024T110000Z
DESCRIPTION:Consigli pratici su come gestire il contratto di vendita i
 nternazionale - validità delle condizioni generali\, conclusione e mo
 dalità di pagamento.
LOCATION:- Assolombarda Confindustria Milano Monza e Brianza - Sala Falck (piano interrato) - Via Chiaravalle 8\, Milano
CONTACT:assolombardaestero@assolombarda.it
URL:https://www.assolombarda.it/servizi/internazionalizzazione/appuntamenti/documentazione-il-contratto-di-compravendita-internazionale
CLASS:PUBLIC
END:VEVENT
END:VCALENDAR
