BEGIN:VCALENDAR
PRODID:-//AT Content Types//AT Event//EN
VERSION:2.0
METHOD:PUBLISH
BEGIN:VEVENT
DTSTAMP:20260422T122552Z
CREATED:20190524T153941Z
UID:ATEvent-978c97e3e4094a4f9150353605094818
LAST-MODIFIED:20190619T081926Z
SUMMARY:Workshop tematico "Research for Industry 4.0"
DTSTART:20190620T123000Z
DTEND:20190620T140000Z
DESCRIPTION:All'interno della "Giornata dell’Industria 4.0" il Works
 hop sarà dedicato alla presentazione di una selezione di progetti di 
 ricerca su temi Industria 4.0 del gruppo Manufacturing del Politecnico
  di Milano
LOCATION:- Assolombarda - Auditorium Gio Ponti (piano interrato) - Via Pantano 9\, Milano
CONTACT:innovazione@assolombarda.it
URL:https://www.assolombarda.it/servizi/industria-innovazione-e-qualita/appuntamenti/workshop-tematico-research-for-industry-4-0
CLASS:PUBLIC
END:VEVENT
END:VCALENDAR
