BEGIN:VCALENDAR
PRODID:-//AT Content Types//AT Event//EN
VERSION:2.0
METHOD:PUBLISH
BEGIN:VEVENT
DTSTAMP:20260422T124144Z
CREATED:20190524T153007Z
UID:ATEvent-885c112a335f432d923a7304cb3f3edc
LAST-MODIFIED:20190619T081825Z
SUMMARY:Workshop tematico "Innovare il capitale umano: strumenti per la formazione continua e l’inserimento dei giovani"
DTSTART:20190620T123000Z
DTEND:20190620T140000Z
DESCRIPTION:All'interno della "Giornata dell’Industria 4.0" il Works
 hop sarà dedicato al tema della formazione continua dei propri collab
 oratori e alla formazione a livello terziario di giovani
LOCATION:- Assolombarda - Sala Meregalli (piano interrato) - Via Pantano 9\, Milano
CONTACT:form@assolombarda.it
URL:https://www.assolombarda.it/servizi/industria-innovazione-e-qualita/appuntamenti/workshop-tematico-innovare-il-capitale-umano-strumenti-per-la-formazione-continua-e-l2019inserimento-dei-giovani
CLASS:PUBLIC
END:VEVENT
END:VCALENDAR
