BEGIN:VCALENDAR
PRODID:-//AT Content Types//AT Event//EN
VERSION:2.0
METHOD:PUBLISH
BEGIN:VEVENT
DTSTAMP:20260422T123834Z
CREATED:20190524T144901Z
UID:ATEvent-d663f2c4e14048e1a703f3b8325011e9
LAST-MODIFIED:20190619T081135Z
SUMMARY:Workshop tematico "Il 5G\, la strada del futuro"
DTSTART:20190620T123000Z
DTEND:20190620T140000Z
DESCRIPTION:All'interno della "Giornata dell’Industria 4.0" il Works
 hop sarà dedicato al tema della tecnologia 5G dando evidenza delle ri
 cadute in termini pratici per le nostre manifatture con la presentazio
 ne di alcuni Use Case sul settore Industry 4.0 & Manufacturing
LOCATION:- Assolombarda - Sala Erba (piano interrato) - Via Pantano 9\, Milano
CONTACT:innovazione@assolombarda.it
URL:https://www.assolombarda.it/servizi/industria-innovazione-e-qualita/appuntamenti/workshop-tematico-il-5g-la-strada-del-futuro
CLASS:PUBLIC
END:VEVENT
END:VCALENDAR
