BEGIN:VCALENDAR
PRODID:-//AT Content Types//AT Event//EN
VERSION:2.0
METHOD:PUBLISH
BEGIN:VEVENT
DTSTAMP:20260422T122612Z
CREATED:20190411T141539Z
UID:ATEvent-af57c14507ff40d18dec3ed5048ad219
LAST-MODIFIED:20190506T082826Z
SUMMARY:Visita presso HPE Innovation Center
DTSTART:20190508T070000Z
DTEND:20190508T130000Z
DESCRIPTION:Nell'ambito dell'iniziativa "Field Trip: Fornitori e Adopt
 er di soluzioni Industria 4.0”\, la visita è riservata al managemen
 t di aziende associate ad Assolombarda interessate ad approfondire sol
 uzioni innovative per i propri processi
LOCATION:HPE Innovation Center — Via Giuseppe di Vittorio 9\, Cernusco sul Naviglio (MI)
CONTACT:innovazione@assolombarda.it
URL:https://www.assolombarda.it/servizi/industria-innovazione-e-qualita/appuntamenti/visita-presso-hpe-innovation-center
CLASS:PUBLIC
END:VEVENT
END:VCALENDAR
