BEGIN:VCALENDAR
PRODID:-//AT Content Types//AT Event//EN
VERSION:2.0
METHOD:PUBLISH
BEGIN:VEVENT
DTSTAMP:20260422T135522Z
CREATED:20211004T101806Z
UID:ATEvent-63888976c07c4be3834ac571236ea5f6
LAST-MODIFIED:20211007T085315Z
SUMMARY:Value-driven marketing
DTSTART:20211013T140000Z
DTEND:20211013T150000Z
DESCRIPTION:Marketing Innovation - Terzo incontro online che conclude 
 il percorso di approfondimento in merito agli impatti delle nuove esig
 enze del cliente sui processi aziendali
LOCATION:Webinar
CONTACT:innovazione@assolombarda.it
URL:https://www.assolombarda.it/servizi/industria-innovazione-e-qualita/appuntamenti/value-driven-marketing
CLASS:PUBLIC
END:VEVENT
END:VCALENDAR
