BEGIN:VCALENDAR
PRODID:-//AT Content Types//AT Event//EN
VERSION:2.0
METHOD:PUBLISH
BEGIN:VEVENT
DTSTAMP:20260422T122612Z
CREATED:20190325T112119Z
UID:ATEvent-c69a47b043e94996aec8164f5bdacc25
LAST-MODIFIED:20190417T131834Z
SUMMARY:MONZA - L’ecosistema digitale per l’azienda 18 aprile
DTSTART:20190418T073000Z
DTEND:20190418T100000Z
DESCRIPTION:Per promuovere la digitalizzazione delle aziende è import
 ante l’esistenza di un forte ecosistema digitale. In quest’ottica 
 si è definita la partnership con la Camera di Commercio di Milano Mon
 zaBrianza e Lodi.
LOCATION:Assolombarda Confindustria Milano\, Monza e Brianza\, Lodi - Sala 1 (piano terra) - Viale Francesco Petrarca 10\, Monza
URL:https://www.assolombarda.it/servizi/industria-innovazione-e-qualita/appuntamenti/monza-l2019ecosistema-digitale-per-l2019azienda
CLASS:PUBLIC
END:VEVENT
END:VCALENDAR
