BEGIN:VCALENDAR
PRODID:-//AT Content Types//AT Event//EN
VERSION:2.0
METHOD:PUBLISH
BEGIN:VEVENT
DTSTAMP:20260423T110255Z
CREATED:20191015T130138Z
UID:ATEvent-91eca40f7c874122a04a2552f426da42
LAST-MODIFIED:20191021T085850Z
SUMMARY:Lean Purchasing e Lean Procurement nella gestione dei fornitori “core”
DTSTART:20191107T133000Z
DTEND:20191107T161500Z
DESCRIPTION:L’applicazione delle metodologie Lean nel processo di ap
 provvigionamento e l'utilizzo delle tecniche Lean nella gestione dei f
 ornitori
LOCATION:- Assolombarda - Sala Falck (piano interrato) - Via Chiaravalle 8\, Milano
CONTACT:innovazione@assolombarda.it
URL:https://www.assolombarda.it/servizi/industria-innovazione-e-qualita/appuntamenti/lean-purchasing-e-lean-procurement-nella-gestione-dei-fornitori-201ccore201d
CLASS:PUBLIC
END:VEVENT
END:VCALENDAR
