BEGIN:VCALENDAR
PRODID:-//AT Content Types//AT Event//EN
VERSION:2.0
METHOD:PUBLISH
BEGIN:VEVENT
DTSTAMP:20260422T122620Z
CREATED:20190523T143621Z
UID:ATEvent-66f8f515992241b38a9c3b3773362c03
LAST-MODIFIED:20190619T081859Z
SUMMARY:Workshop tematico "Lavori in corso"
DTSTART:20190620T123000Z
DTEND:20190620T140000Z
DESCRIPTION:All'interno della "Giornata dell’Industria 4.0" il Works
 hop sarà dedicato a presentare alcune evidenze dell’analisi basata 
 sui dati microeconomici raccolti dall’Indagine Retributiva Assolomba
 rda
LOCATION:- Assolombarda - Sala Falck (piano interrato) - Via Chiaravalle 8\, Milano
CONTACT:innovazione@assolombarda.it
URL:https://www.assolombarda.it/servizi/industria-innovazione-e-qualita/appuntamenti/lavori-in-corso-giornata-dell2019industria-4-0
CLASS:PUBLIC
END:VEVENT
END:VCALENDAR
