BEGIN:VCALENDAR
PRODID:-//AT Content Types//AT Event//EN
VERSION:2.0
METHOD:PUBLISH
BEGIN:VEVENT
DTSTAMP:20260421T204415Z
CREATED:20180205T171026Z
UID:ATEvent-589012b9e100407db4d95b9e27cac179
LAST-MODIFIED:20220804T144635Z
SUMMARY:Iperammortamento Industria 4.0: novità 2018\, suggerimenti operativi e testimonianze
DTSTART:20180228T130000Z
DTEND:20180228T153000Z
DESCRIPTION:Ad un anno di distanza dalla sua introduzione\, faremo il 
 punto su quella che è stata la misura shock del Piano Nazionale Indus
 tria 4.0 insieme alle aziende che hanno deciso di avvalersi dell'Ipera
 mmortamento ed ai tecnici che offrono supporto al fine dell'otteniment
 o del beneficio fiscale.
LOCATION:- Assolombarda - Sala Falck (piano interrato) - Via Chiaravalle 8\, Milano
CONTACT:innovazione@assolombarda.it
URL:https://www.assolombarda.it/servizi/industria-innovazione-e-qualita/appuntamenti/iperammortamento-industria-4-0-novita-2018-suggerimenti-operativi-e-testimonianze-_-28-febbraio
CLASS:PUBLIC
END:VEVENT
END:VCALENDAR
