BEGIN:VCALENDAR
PRODID:-//AT Content Types//AT Event//EN
VERSION:2.0
METHOD:PUBLISH
BEGIN:VEVENT
DTSTAMP:20260420T110421Z
CREATED:20130403T143228Z
UID:ATEvent-341e066d7e88059776f9d8cc86413223
LAST-MODIFIED:20130408T083946Z
SUMMARY:Exploring Design - Il design a supporto delle attività di promozione e valorizzazione del territorio
DTSTART:20130418T160000Z
DTEND:20130418T180000Z
DESCRIPTION:Terzo incontro del ciclo "Exploring Design - Design e inno
 vazione nel contesto aziendale. Questioni\, approcci\, pratiche" organ
 izzato con il Dottorato di Design del Politecnico di Milano.
LOCATION:- Assolombarda - Sala Bracco (piano interrato) - Via Chiaravalle 8\, Milano
CONTACT:mei@assolombarda.it
URL:https://www.assolombarda.it/servizi/industria-innovazione-e-qualita/appuntamenti/exploring-design-il-design-a-supporto-delle-attivita-di-promozione-e-valorizzazione-del-territorio
CLASS:PUBLIC
END:VEVENT
END:VCALENDAR
