BEGIN:VCALENDAR
PRODID:-//AT Content Types//AT Event//EN
VERSION:2.0
METHOD:PUBLISH
BEGIN:VEVENT
DTSTAMP:20260422T135522Z
CREATED:20210514T145706Z
UID:ATEvent-d877a3e15c3442a9bfdbf0ab9eba257d
LAST-MODIFIED:20210608T075534Z
SUMMARY:Data-driven marketing
DTSTART:20210623T143000Z
DTEND:20210623T154500Z
DESCRIPTION:Marketing Innovation - Primo approfondimento online dedica
 to all’importanza dei dati nella creazione di valore per il cliente.
 
LOCATION:Webinar
CONTACT:innovazione@assolombarda.it
URL:https://www.assolombarda.it/servizi/industria-innovazione-e-qualita/appuntamenti/data-driven-marketing
CLASS:PUBLIC
END:VEVENT
END:VCALENDAR
