BEGIN:VCALENDAR
PRODID:-//AT Content Types//AT Event//EN
VERSION:2.0
METHOD:PUBLISH
BEGIN:VEVENT
DTSTAMP:20260422T141502Z
CREATED:20210825T090043Z
UID:ATEvent-b7fcf8ca89a141eb92a9c11e9ab6d372
LAST-MODIFIED:20210830T103440Z
SUMMARY:Da sempre accanto alle imprese: scopri i servizi per migliorare i processi e certificare la qualità aziendale - Webinar\, 7 settembre
DTSTART:20210907T070000Z
DTEND:20210907T073000Z
LOCATION:Assolombarda webinar online
CONTACT:svil@assolombarda.it
URL:https://www.assolombarda.it/servizi/industria-innovazione-e-qualita/appuntamenti/da-sempre-acconto-alle-imprese-scopri-i-servizi-per-migliorare-i-processi-e-certificare-la-qualita-aziendale-webinar-7-settembre
CLASS:PUBLIC
END:VEVENT
END:VCALENDAR
