BEGIN:VCALENDAR
PRODID:-//AT Content Types//AT Event//EN
VERSION:2.0
METHOD:PUBLISH
BEGIN:VEVENT
DTSTAMP:20260422T141601Z
CREATED:20210921T150720Z
UID:ATEvent-65e17f5f6cc447a89d8288d6bb18ce96
LAST-MODIFIED:20210922T124040Z
SUMMARY:Da sempre accanto alle imprese: scopri i servizi a supporto della trasformazione dei processi produttivi dell’azienda
DTSTART:20211005T070000Z
DTEND:20211005T073000Z
LOCATION:Webinar
CONTACT:svil@assolombarda.it
URL:https://www.assolombarda.it/servizi/industria-innovazione-e-qualita/appuntamenti/da-sempre-accanto-alle-imprese-copri-i-servizi-a-supporto-della-trasformazione-dei-processi-produttivi-dell2019azienda
CLASS:PUBLIC
END:VEVENT
END:VCALENDAR
