BEGIN:VCALENDAR
PRODID:-//AT Content Types//AT Event//EN
VERSION:2.0
METHOD:PUBLISH
BEGIN:VEVENT
DTSTAMP:20260422T122712Z
CREATED:20190930T154205Z
UID:ATEvent-6be4dbf8224b45ad897728a28b753f7e
LAST-MODIFIED:20191014T141015Z
SUMMARY:Cyber Security\, un ecosistema fatto di persone\, 21 ottobre 2019
DTSTART:20191021T073000Z
DTEND:20191021T110000Z
DESCRIPTION:Torna l'appuntamento annuale con la cyber security in Asso
 lombarda. Evento realizzato in collaborazione col Sole24Ore
LOCATION:- Assolombarda - Auditorium Gio Ponti (piano interrato) - Via Pantano 9\, Milano
CONTACT:innovazione@assolombarda.it
URL:https://www.assolombarda.it/servizi/industria-innovazione-e-qualita/appuntamenti/cyber-security-un-ecosistema-fatto-di-persone-21-ottobre-2019
CLASS:PUBLIC
END:VEVENT
END:VCALENDAR
