BEGIN:VCALENDAR
PRODID:-//AT Content Types//AT Event//EN
VERSION:2.0
METHOD:PUBLISH
BEGIN:VEVENT
DTSTAMP:20260422T135904Z
CREATED:20210611T085100Z
UID:ATEvent-7f1f6b3bfa1248969cce7eb71a5542f1
LAST-MODIFIED:20210705T101623Z
SUMMARY:Ciclo 'Innovation link' – Stampa 3D: gli ambiti applicativi che creano valore
DTSTART:20210629T150000Z
DTEND:20210629T161500Z
DESCRIPTION:Dalle esperienze sul campo dei laboratori di Politecnico d
 i Milano e Università di Pavia\, le indicazioni utili per cogliere al
  meglio i vantaggi delle tecnologie di stampa 3D. Secondo incontro del
  ciclo 'Innovation link'.
LOCATION:Webinar
CONTACT:innovazione@assolombarda.it
URL:https://www.assolombarda.it/servizi/industria-innovazione-e-qualita/appuntamenti/ciclo-innovation-link-2013-stampa-3d-gli-ambiti-applicativi-che-creano-valore
CLASS:PUBLIC
END:VEVENT
END:VCALENDAR
