BEGIN:VCALENDAR
PRODID:-//AT Content Types//AT Event//EN
VERSION:2.0
METHOD:PUBLISH
BEGIN:VEVENT
DTSTAMP:20260421T190326Z
CREATED:20200505T170959Z
UID:ATEvent-d05877ede748414f86c1d263e37f28c3
LAST-MODIFIED:20220804T144629Z
SUMMARY:Contributi europei e nazionali a sostegno di progetti di innovazione con positivo impatto ambientale
DTSTART:20200526T083000Z
DTEND:20200526T100000Z
DESCRIPTION:Nei prossimi mesi le imprese dovranno pensare alla ripresa
 \, innovazione e impatto ambientale saranno due leve importanti di que
 sto percorso. Il Mise e la Commissione Europea sostengono le imprese c
 on due strumenti a fondo perduto: Bando Circular Economy e il Bando Li
 fe 2020
LOCATION:Webinar
URL:https://www.assolombarda.it/servizi/incentivi-e-finanziamenti-agevolati/gli-incentivi-finanziari-per-la-ripresa/contributi-europei-a-sostegno-dellinnovazione-con-positivo-impatto-ambientale-bando-life-2020
CLASS:PUBLIC
END:VEVENT
END:VCALENDAR
