BEGIN:VCALENDAR
PRODID:-//AT Content Types//AT Event//EN
VERSION:2.0
METHOD:PUBLISH
BEGIN:VEVENT
DTSTAMP:20260421T191312Z
CREATED:20190930T093541Z
UID:ATEvent-71ace9fe7b14428d8b511dcd33dd481e
LAST-MODIFIED:20220804T144634Z
SUMMARY:Valori in gioco – Spazi in locazione a Milano per micro\, piccole e medie imprese
DTSTART:20191004T143000Z
DTEND:20191004T160000Z
DESCRIPTION:Incontro di presentazione dell'avviso pubblico del Comune 
 di Milano per la locazione di n. 17 unità immobiliari in contesti ERP
  da assegnare anche ad attività imprenditoriali innovative sperimenta
 li.
LOCATION:- Assolombarda - Sala Erba (piano interrato) - Via Pantano 9\, Milano
CONTACT:territorio@assolombarda.it
URL:https://www.assolombarda.it/servizi/immobili-urbanistica-e-territorio/appuntamenti/valori-in-gioco-2013-spazi-in-locazione-a-milano-per-micro-piccole-e-medie-imprese
CLASS:PUBLIC
END:VEVENT
END:VCALENDAR
