BEGIN:VCALENDAR
PRODID:-//AT Content Types//AT Event//EN
VERSION:2.0
METHOD:PUBLISH
BEGIN:VEVENT
DTSTAMP:20260421T214112Z
CREATED:20170711T130016Z
UID:ATEvent-f62caf8d6aa4471a935f2e33cbf842c6
LAST-MODIFIED:20220804T144628Z
SUMMARY:Sismabonus: un'opportunità per le imprese
DTSTART:20170925T073000Z
DTEND:20170925T093000Z
DESCRIPTION:I benefici fiscali e gli interventi per la riduzione del r
 ischio sismico degli edifici produttivi.
LOCATION:- Assolombarda - Sala Bianchi (4° piano) - Via Pantano 9\, Milano
CONTACT:territorio@assolombarda.it
URL:https://www.assolombarda.it/servizi/immobili-urbanistica-e-territorio/appuntamenti/sismabonus-unopportunita-per-le-imprese
CLASS:PUBLIC
END:VEVENT
END:VCALENDAR
