BEGIN:VCALENDAR
PRODID:-//AT Content Types//AT Event//EN
VERSION:2.0
METHOD:PUBLISH
BEGIN:VEVENT
DTSTAMP:20260421T214423Z
CREATED:20171026T082200Z
UID:ATEvent-a19b473c6a714ba599d84dfd7d496c15
LAST-MODIFIED:20220804T144622Z
SUMMARY:Finanza e Sostenibilità: gli investimenti responsabili protagonisti del cambiamento
DTSTART:20171114T160000Z
DTEND:20171114T180000Z
DESCRIPTION:Con l’aiuto di rappresentanti di importanti società leg
 ate al settore finanziario italiano\, Assolombarda e il Topic Sustaina
 bility dell’associazione Alumni Bocconi indagheranno l’evoluzione 
 in atto nella mobilitazione dei capitali verso un futuro più sostenib
 ile.
LOCATION:- Assolombarda - Sala Erba (piano interrato) - Via Pantano 9\, Milano
CONTACT:territorio@assolombarda.it
URL:https://www.assolombarda.it/servizi/immobili-urbanistica-e-territorio/appuntamenti/finanza-e-sostenibilita-gli-investimenti-responsabili-protagonisti-del-cambiamento
CLASS:PUBLIC
END:VEVENT
END:VCALENDAR
