BEGIN:VCALENDAR
PRODID:-//AT Content Types//AT Event//EN
VERSION:2.0
METHOD:PUBLISH
BEGIN:VEVENT
DTSTAMP:20260422T122850Z
CREATED:20191105T104010Z
UID:ATEvent-8b15e8960da445c3b9e903bbe79f649e
LAST-MODIFIED:20191121T152121Z
SUMMARY:"Scommettere sulla ricerca: investire per il futuro" | 3 dicembre 2019 - RISERVATO AGLI STUDENTI DI DOTTORATO
DTSTART:20191203T143000Z
DTEND:20191203T163000Z
DESCRIPTION:Il Convegno è promosso da Assolombarda e dalle Scuole di 
 Dottorato per gli studenti del primo anno dei corsi di Dottorato
LOCATION:- Assolombarda - Auditorium Gio Ponti (piano interrato) - Via Pantano 9\, Milano
CONTACT:form@assolombarda.it
URL:https://www.assolombarda.it/servizi/formazione/appuntamenti/scommettere-sulla-ricerca-investire-per-il-futuro-convegno-3-dicembre-2019-riservato-agli-studenti-di-dottorato
CLASS:PUBLIC
END:VEVENT
END:VCALENDAR
