BEGIN:VCALENDAR
PRODID:-//AT Content Types//AT Event//EN
VERSION:2.0
METHOD:PUBLISH
BEGIN:VEVENT
DTSTAMP:20260421T222527Z
CREATED:20140212T154638Z
UID:ATEvent-eb9838266e5647c8d08e4e3d4d77e1dd
LAST-MODIFIED:20140411T165029Z
SUMMARY:Generation Y: ready for work around the world? Aspettative\, sogni\, delusioni dei giovani in un mercato del lavoro globale
DTSTART:20140415T073000Z
DTEND:20140415T110000Z
DESCRIPTION:Quali le propensioni\, gli atteggiamenti\, gli orientament
 i della Generazione Y globale nei confronti del mondo del lavoro? Qual
 i le principali strategie alla ricerca di una occupazione dopo il perc
 orso universitario in Italia e allâ€™estero? Quali le professioni e lâ
 €™azienda ideale per i giovani italiani in confronto a quelli stranier
 i? E la fiducia verso il  futuro? Tra sogni e realtÃ \, tra voglia di 
 fare le valigie e partire\; o resistere a casa\, e restareâ€¦contro tu
 tti e tutto.
LOCATION:- Assolombarda - Auditorium Gio Ponti (piano interrato) - Via Pantano 9\, Milano
CONTACT:sur@assolombarda.it
URL:https://www.assolombarda.it/servizi/formazione/appuntamenti/generation-y-ready-for-work-around-the-world-mobilita-mercati-del-lavoro-formazione-dei-giovani-nel-mondo-globale
CLASS:PUBLIC
END:VEVENT
END:VCALENDAR
