BEGIN:VCALENDAR
PRODID:-//AT Content Types//AT Event//EN
VERSION:2.0
METHOD:PUBLISH
BEGIN:VEVENT
DTSTAMP:20260423T021839Z
CREATED:20260323T133653Z
UID:ATEvent-5c82c09071724c78baf6f6f09ce6d3d1
LAST-MODIFIED:20260323T133657Z
SUMMARY:Modello IVA TR – Presentazione Istanza di Rimborso/Compensazione
DTSTART:20260430T124000Z
DTEND:20260430T124000Z
CATEGORIES:scadenze, Fisco, Fisco.IVA e imposte indirette
CLASS:PUBLIC
END:VEVENT
END:VCALENDAR
