BEGIN:VCALENDAR
PRODID:-//AT Content Types//AT Event//EN
VERSION:2.0
METHOD:PUBLISH
BEGIN:VEVENT
DTSTAMP:20260420T134035Z
CREATED:20130311T131516Z
UID:ATEvent-130a633f12f041f50fed816361423da2
LAST-MODIFIED:20130311T131612Z
SUMMARY:IVA - Intracee - Fatture per cessioni intracomunitarie
DTSTART:20130415T121500Z
DTEND:20130415T121500Z
CATEGORIES:Fisco, scadenze
CLASS:PUBLIC
END:VEVENT
END:VCALENDAR
