BEGIN:VCALENDAR
PRODID:-//AT Content Types//AT Event//EN
VERSION:2.0
METHOD:PUBLISH
BEGIN:VEVENT
DTSTAMP:20260420T200146Z
CREATED:20130911T125936Z
UID:ATEvent-493b04eddcc387b62fac8946cb654e9e
LAST-MODIFIED:20130911T130007Z
SUMMARY:IVA - Annotazione del documento riepilogativo
DTSTART:20131015T125500Z
DTEND:20131015T125500Z
CATEGORIES:Fisco, scadenze
CLASS:PUBLIC
END:VEVENT
END:VCALENDAR
