BEGIN:VCALENDAR
PRODID:-//AT Content Types//AT Event//EN
VERSION:2.0
METHOD:PUBLISH
BEGIN:VEVENT
DTSTAMP:20260423T191033Z
CREATED:20260323T133747Z
UID:ATEvent-2663cfddffd345f5b984d598092f1695
LAST-MODIFIED:20260323T133754Z
SUMMARY:IVA – Regime speciale OSS e IOSS
DTSTART:20260430T124000Z
DTEND:20260430T124000Z
CATEGORIES:scadenze, Fisco, Fisco.IVA e imposte indirette
CLASS:PUBLIC
END:VEVENT
END:VCALENDAR
