BEGIN:VCALENDAR
PRODID:-//AT Content Types//AT Event//EN
VERSION:2.0
METHOD:PUBLISH
BEGIN:VEVENT
DTSTAMP:20260419T123947Z
CREATED:20260122T103228Z
UID:ATEvent-2e1413afee2a4f8b903bd5ec6b260092
LAST-MODIFIED:20260122T103241Z
SUMMARY:IVA – Presentazione Dichiarazione Annuale per il 2025 – Inizio decorrenza del termine
DTSTART:20260201T101000Z
DTEND:20260201T101000Z
CATEGORIES:scadenze, Fisco, Fisco.IVA e imposte indirette
CLASS:PUBLIC
END:VEVENT
END:VCALENDAR
