BEGIN:VCALENDAR
PRODID:-//AT Content Types//AT Event//EN
VERSION:2.0
METHOD:PUBLISH
BEGIN:VEVENT
DTSTAMP:20260424T083652Z
CREATED:20260323T133600Z
UID:ATEvent-a2094c71c2ba4432b2b8d3261be0fca3
LAST-MODIFIED:20260323T133606Z
SUMMARY:IVA – Presentazione della Dichiarazione annuale 2026
DTSTART:20260430T123500Z
DTEND:20260430T123500Z
CATEGORIES:scadenze, Fisco, Fisco.IVA e imposte indirette
CLASS:PUBLIC
END:VEVENT
END:VCALENDAR
