BEGIN:VCALENDAR
PRODID:-//AT Content Types//AT Event//EN
VERSION:2.0
METHOD:PUBLISH
BEGIN:VEVENT
DTSTAMP:20260421T083007Z
CREATED:20260323T133451Z
UID:ATEvent-3cd8dc9985be48efb40f64f7d4e465d6
LAST-MODIFIED:20260323T133455Z
SUMMARY:IVA – Intrastat mensile e trimestrale
DTSTART:20260427T123500Z
DTEND:20260427T123500Z
CATEGORIES:scadenze, Fisco, Fisco.IVA e imposte indirette
CLASS:PUBLIC
END:VEVENT
END:VCALENDAR
